Package: BANDITS Version: 1.25.0 Command: chmod a+r BANDITS -R && F:\biocbuild\bbs-3.22-bioc\R\bin\R.exe CMD build --keep-empty-dirs --no-resave-data BANDITS StartedAt: 2025-08-14 18:32:34 -0400 (Thu, 14 Aug 2025) EndedAt: 2025-08-14 18:36:04 -0400 (Thu, 14 Aug 2025) EllapsedTime: 210.0 seconds RetCode: 0 Status: OK PackageFile: BANDITS_1.25.0.tar.gz PackageFileSize: 1.056 MiB