Package: BANDITS Version: 1.26.0 Command: /home/biocbuild/bbs-3.22-bioc/R/bin/R CMD INSTALL BANDITS StartedAt: 2025-10-31 15:43:23 -0400 (Fri, 31 Oct 2025) EndedAt: 2025-10-31 15:44:25 -0400 (Fri, 31 Oct 2025) EllapsedTime: 62.3 seconds RetCode: 0 Status: OK