Package: BANDITS Version: 1.26.0 Command: rm -rf BANDITS.buildbin-libdir && mkdir BANDITS.buildbin-libdir && /Users/biocbuild/BBS/utils/build-universal.sh BANDITS_1.26.0.tar.gz /Library/Frameworks/R.framework/Resources/bin/R BANDITS.buildbin-libdir StartedAt: 2025-10-31 22:58:33 -0400 (Fri, 31 Oct 2025) EndedAt: 2025-10-31 22:58:53 -0400 (Fri, 31 Oct 2025) EllapsedTime: 19.4 seconds RetCode: 0 Status: OK PackageFile: BANDITS_1.26.0.tgz PackageFileSize: 1.602 MiB