Package: BAGS Version: 2.48.0 Command: chmod a+r BAGS -R && E:\biocbuild\bbs-3.21-bioc\R\bin\R.exe CMD build --keep-empty-dirs --no-resave-data BAGS StartedAt: 2025-08-14 17:26:33 -0400 (Thu, 14 Aug 2025) EndedAt: 2025-08-14 17:27:09 -0400 (Thu, 14 Aug 2025) EllapsedTime: 35.8 seconds RetCode: 0 Status: OK PackageFile: BAGS_2.48.0.tar.gz PackageFileSize: 198.9 KiB