Package: BAGS Version: 2.48.0 Command: rm -rf BAGS.buildbin-libdir && mkdir BAGS.buildbin-libdir && E:\biocbuild\bbs-3.21-bioc\R\bin\R.exe CMD INSTALL --build --library=BAGS.buildbin-libdir BAGS_2.48.0.tar.gz StartedAt: 2025-08-15 08:47:45 -0400 (Fri, 15 Aug 2025) EndedAt: 2025-08-15 08:48:00 -0400 (Fri, 15 Aug 2025) EllapsedTime: 14.4 seconds RetCode: 0 Status: OK PackageFile: BAGS_2.48.0.zip PackageFileSize: 245.9 KiB