Package: BAGS Version: 2.48.0 Command: /Library/Frameworks/R.framework/Resources/bin/R CMD check --install=check:BAGS.install-out.txt --library=/Library/Frameworks/R.framework/Resources/library --no-vignettes --timings BAGS_2.48.0.tar.gz StartedAt: 2025-04-21 18:12:50 -0400 (Mon, 21 Apr 2025) EndedAt: 2025-04-21 18:13:16 -0400 (Mon, 21 Apr 2025) EllapsedTime: 26.4 seconds RetCode: 0 Status: OK CheckDir: BAGS.Rcheck Warnings: 0