Package: BAGS Version: 2.48.0 Command: rm -rf BAGS.buildbin-libdir && mkdir BAGS.buildbin-libdir && /Users/biocbuild/BBS/utils/build-universal.sh BAGS_2.48.0.tar.gz /Library/Frameworks/R.framework/Resources/bin/R BAGS.buildbin-libdir StartedAt: 2025-04-21 22:26:39 -0400 (Mon, 21 Apr 2025) EndedAt: 2025-04-21 22:26:42 -0400 (Mon, 21 Apr 2025) EllapsedTime: 3.0 seconds RetCode: 0 Status: OK PackageFile: BAGS_2.48.0.tgz PackageFileSize: 316 KiB