Package: BAGS Version: 2.48.0 Command: /Library/Frameworks/R.framework/Resources/bin/R CMD check --install=check:BAGS.install-out.txt --library=/Library/Frameworks/R.framework/Resources/library --no-vignettes --timings BAGS_2.48.0.tar.gz StartedAt: 2025-09-30 13:10:55 -0400 (Tue, 30 Sep 2025) EndedAt: 2025-09-30 13:12:07 -0400 (Tue, 30 Sep 2025) EllapsedTime: 71.7 seconds RetCode: 0 Status: OK CheckDir: BAGS.Rcheck Warnings: 0