Package: BADER Version: 1.47.0 Command: chmod a+r BADER -R && F:\biocbuild\bbs-3.22-bioc\R\bin\R.exe CMD build --keep-empty-dirs --no-resave-data BADER StartedAt: 2025-08-14 18:31:45 -0400 (Thu, 14 Aug 2025) EndedAt: 2025-08-14 18:32:21 -0400 (Thu, 14 Aug 2025) EllapsedTime: 36.0 seconds RetCode: 0 Status: OK PackageFile: BADER_1.47.0.tar.gz PackageFileSize: 147.7 KiB