Package: BADER Version: 1.47.0 Command: rm -rf BADER.buildbin-libdir && mkdir BADER.buildbin-libdir && F:\biocbuild\bbs-3.22-bioc\R\bin\R.exe CMD INSTALL --build --library=BADER.buildbin-libdir BADER_1.47.0.tar.gz StartedAt: 2025-08-15 09:45:31 -0400 (Fri, 15 Aug 2025) EndedAt: 2025-08-15 09:45:42 -0400 (Fri, 15 Aug 2025) EllapsedTime: 10.2 seconds RetCode: 0 Status: OK PackageFile: BADER_1.47.0.zip PackageFileSize: 237.3 KiB