Package: BADER Version: 1.48.0 Command: /home/biocbuild/bbs-3.22-bioc/R/bin/R CMD INSTALL BADER StartedAt: 2025-11-06 15:05:06 -0500 (Thu, 06 Nov 2025) EndedAt: 2025-11-06 15:05:19 -0500 (Thu, 06 Nov 2025) EllapsedTime: 12.5 seconds RetCode: 0 Status: OK