Package: BADER Version: 1.48.0 Command: /home/biocbuild/bbs-3.22-bioc/R/bin/R CMD check --install=check:BADER.install-out.txt --library=/home/biocbuild/bbs-3.22-bioc/R/site-library --timings BADER_1.48.0.tar.gz StartedAt: 2025-11-06 21:11:18 -0500 (Thu, 06 Nov 2025) EndedAt: 2025-11-06 21:11:44 -0500 (Thu, 06 Nov 2025) EllapsedTime: 26.0 seconds RetCode: 0 Status: OK CheckDir: BADER.Rcheck Warnings: 0