Package: BADER Version: 1.48.0 Command: /Library/Frameworks/R.framework/Resources/bin/R CMD build --keep-empty-dirs --no-resave-data BADER StartedAt: 2025-11-09 15:40:59 -0500 (Sun, 09 Nov 2025) EndedAt: 2025-11-09 15:41:08 -0500 (Sun, 09 Nov 2025) EllapsedTime: 9.1 seconds RetCode: 0 Status: OK PackageFile: BADER_1.48.0.tar.gz PackageFileSize: 238.3 KiB