Package: AnnotationHub Version: 3.16.1 Command: rm -rf AnnotationHub.buildbin-libdir && mkdir AnnotationHub.buildbin-libdir && E:\biocbuild\bbs-3.21-bioc\R\bin\R.exe CMD INSTALL --build --library=AnnotationHub.buildbin-libdir AnnotationHub_3.16.1.tar.gz StartedAt: 2025-08-15 08:45:30 -0400 (Fri, 15 Aug 2025) EndedAt: 2025-08-15 08:46:52 -0400 (Fri, 15 Aug 2025) EllapsedTime: 81.5 seconds RetCode: 0 Status: OK PackageFile: AnnotationHub_3.16.1.zip PackageFileSize: 1.241 MiB