Package: AnnotationForge Version: 1.50.0 Command: rm -rf AnnotationForge.buildbin-libdir && mkdir AnnotationForge.buildbin-libdir && E:\biocbuild\bbs-3.21-bioc\R\bin\R.exe CMD INSTALL --build --library=AnnotationForge.buildbin-libdir AnnotationForge_1.50.0.tar.gz StartedAt: 2025-08-15 08:45:28 -0400 (Fri, 15 Aug 2025) EndedAt: 2025-08-15 08:47:18 -0400 (Fri, 15 Aug 2025) EllapsedTime: 109.3 seconds RetCode: 0 Status: OK PackageFile: AnnotationForge_1.50.0.zip PackageFileSize: 4.375 MiB