Package: AnnotationForge Version: 1.50.0 Command: /home/biocbuild/R/R/bin/R CMD check --install=check:AnnotationForge.install-out.txt --library=/home/biocbuild/R/R/site-library --no-vignettes --timings AnnotationForge_1.50.0.tar.gz StartedAt: 2025-10-14 06:11:58 -0000 (Tue, 14 Oct 2025) EndedAt: 2025-10-14 06:14:46 -0000 (Tue, 14 Oct 2025) EllapsedTime: 167.3 seconds RetCode: 0 Status: OK CheckDir: AnnotationForge.Rcheck Warnings: 0