Package: Anaquin Version: 2.33.0 Command: F:\biocbuild\bbs-3.22-bioc\R\bin\R.exe CMD check --no-multiarch --install=check:Anaquin.install-out.txt --library=F:\biocbuild\bbs-3.22-bioc\R\library --no-vignettes --timings Anaquin_2.33.0.tar.gz StartedAt: 2025-08-15 00:27:41 -0400 (Fri, 15 Aug 2025) EndedAt: 2025-08-15 00:29:04 -0400 (Fri, 15 Aug 2025) EllapsedTime: 82.8 seconds RetCode: 0 Status: OK CheckDir: Anaquin.Rcheck Warnings: 0