Package: Anaquin Version: 2.34.0 Command: /home/biocbuild/bbs-3.22-bioc/R/bin/R CMD INSTALL Anaquin StartedAt: 2025-11-06 15:22:56 -0500 (Thu, 06 Nov 2025) EndedAt: 2025-11-06 15:23:02 -0500 (Thu, 06 Nov 2025) EllapsedTime: 5.9 seconds RetCode: 0 Status: OK