Package: Anaquin Version: 2.34.0 Command: /home/biocbuild/bbs-3.22-bioc/R/bin/R CMD check --install=check:Anaquin.install-out.txt --library=/home/biocbuild/bbs-3.22-bioc/R/site-library --timings Anaquin_2.34.0.tar.gz StartedAt: 2025-11-09 21:10:14 -0500 (Sun, 09 Nov 2025) EndedAt: 2025-11-09 21:11:37 -0500 (Sun, 09 Nov 2025) EllapsedTime: 83.1 seconds RetCode: 0 Status: OK CheckDir: Anaquin.Rcheck Warnings: 0