Package: AnVILWorkflow Version: 1.8.0 Command: rm -rf AnVILWorkflow.buildbin-libdir && mkdir AnVILWorkflow.buildbin-libdir && /Users/biocbuild/BBS/utils/build-universal.sh AnVILWorkflow_1.8.0.tar.gz /Library/Frameworks/R.framework/Resources/bin/R AnVILWorkflow.buildbin-libdir StartedAt: 2025-10-14 12:50:36 -0400 (Tue, 14 Oct 2025) EndedAt: 2025-10-14 12:50:48 -0400 (Tue, 14 Oct 2025) EllapsedTime: 12.3 seconds RetCode: 0 Status: OK PackageFile: AnVILWorkflow_1.8.0.tgz PackageFileSize: 1.016 MiB