Package: AnVILPublish Version: 1.20.0 Command: /home/biocbuild/bbs-3.22-bioc/R/bin/R CMD INSTALL AnVILPublish StartedAt: 2025-11-20 15:59:52 -0500 (Thu, 20 Nov 2025) EndedAt: 2025-11-20 16:00:05 -0500 (Thu, 20 Nov 2025) EllapsedTime: 13.4 seconds RetCode: 0 Status: OK