Package: AnVILPublish Version: 1.20.0 Command: /home/biocbuild/bbs-3.22-bioc/R/bin/R CMD build --keep-empty-dirs --no-resave-data --md5 AnVILPublish StartedAt: 2025-11-20 17:05:52 -0500 (Thu, 20 Nov 2025) EndedAt: 2025-11-20 17:06:01 -0500 (Thu, 20 Nov 2025) EllapsedTime: 9.0 seconds RetCode: 0 Status: OK PackageFile: AnVILPublish_1.20.0.tar.gz PackageFileSize: 236.7 KiB