Package: AnVILPublish Version: 1.20.0 Command: /Library/Frameworks/R.framework/Resources/bin/R CMD INSTALL AnVILPublish StartedAt: 2025-11-20 16:02:04 -0500 (Thu, 20 Nov 2025) EndedAt: 2025-11-20 16:02:43 -0500 (Thu, 20 Nov 2025) EllapsedTime: 39.5 seconds RetCode: 0 Status: OK