Package: AnVILPublish Version: 1.20.0 Command: rm -rf AnVILPublish.buildbin-libdir && mkdir AnVILPublish.buildbin-libdir && /Users/biocbuild/BBS/utils/build-universal.sh AnVILPublish_1.20.0.tar.gz /Library/Frameworks/R.framework/Resources/bin/R AnVILPublish.buildbin-libdir StartedAt: 2025-11-21 14:13:49 -0500 (Fri, 21 Nov 2025) EndedAt: 2025-11-21 14:14:02 -0500 (Fri, 21 Nov 2025) EllapsedTime: 12.9 seconds RetCode: 0 Status: OK PackageFile: AnVILPublish_1.20.0.tgz PackageFileSize: 259 KiB