Package: AnVILGCP Version: 1.4.0 Command: /home/biocbuild/bbs-3.22-bioc/R/bin/R CMD INSTALL AnVILGCP StartedAt: 2025-11-06 15:08:50 -0500 (Thu, 06 Nov 2025) EndedAt: 2025-11-06 15:09:04 -0500 (Thu, 06 Nov 2025) EllapsedTime: 13.6 seconds RetCode: 0 Status: OK