Package: AnVILGCP Version: 1.4.0 Command: /home/biocbuild/bbs-3.22-bioc/R/bin/R CMD check --install=check:AnVILGCP.install-out.txt --library=/home/biocbuild/bbs-3.22-bioc/R/site-library --timings AnVILGCP_1.4.0.tar.gz StartedAt: 2025-11-06 21:03:55 -0500 (Thu, 06 Nov 2025) EndedAt: 2025-11-06 21:04:32 -0500 (Thu, 06 Nov 2025) EllapsedTime: 37.1 seconds RetCode: 0 Status: OK CheckDir: AnVILGCP.Rcheck Warnings: 0