Package: AnVILBilling Version: 1.18.0 Command: rm -rf AnVILBilling.buildbin-libdir && mkdir AnVILBilling.buildbin-libdir && E:\biocbuild\bbs-3.21-bioc\R\bin\R.exe CMD INSTALL --build --library=AnVILBilling.buildbin-libdir AnVILBilling_1.18.0.tar.gz StartedAt: 2025-08-15 08:46:02 -0400 (Fri, 15 Aug 2025) EndedAt: 2025-08-15 08:46:37 -0400 (Fri, 15 Aug 2025) EllapsedTime: 35.0 seconds RetCode: 0 Status: OK PackageFile: AnVILBilling_1.18.0.zip PackageFileSize: 747.8 KiB