Package: AnVILBilling Version: 1.18.0 Command: /home/biocbuild/bbs-3.21-bioc/R/bin/R CMD INSTALL AnVILBilling StartedAt: 2025-10-01 15:11:29 -0400 (Wed, 01 Oct 2025) EndedAt: 2025-10-01 15:11:46 -0400 (Wed, 01 Oct 2025) EllapsedTime: 17.6 seconds RetCode: 0 Status: OK