Package: AnVIL Version: 1.21.10 Command: /home/biocbuild/R/R/bin/R CMD INSTALL AnVIL StartedAt: 2025-10-23 20:26:50 -0000 (Thu, 23 Oct 2025) EndedAt: 2025-10-23 20:27:12 -0000 (Thu, 23 Oct 2025) EllapsedTime: 21.8 seconds RetCode: 0 Status: OK