Package: AnVIL Version: 1.21.9 Command: F:\biocbuild\bbs-3.22-bioc\R\bin\R.exe CMD INSTALL AnVIL StartedAt: 2025-08-14 15:28:40 -0400 (Thu, 14 Aug 2025) EndedAt: 2025-08-14 15:29:04 -0400 (Thu, 14 Aug 2025) EllapsedTime: 24.1 seconds RetCode: 0 Status: OK