Package: AnVIL Version: 1.22.0 Command: /home/biocbuild/bbs-3.22-bioc/R/bin/R CMD INSTALL AnVIL StartedAt: 2025-11-09 15:09:01 -0500 (Sun, 09 Nov 2025) EndedAt: 2025-11-09 15:09:06 -0500 (Sun, 09 Nov 2025) EllapsedTime: 4.9 seconds RetCode: 0 Status: OK