Package: AnVIL Version: 1.22.0 Command: /home/biocbuild/bbs-3.22-bioc/R/bin/R CMD build --keep-empty-dirs --no-resave-data --md5 AnVIL StartedAt: 2025-11-09 16:16:16 -0500 (Sun, 09 Nov 2025) EndedAt: 2025-11-09 16:16:31 -0500 (Sun, 09 Nov 2025) EllapsedTime: 15.0 seconds RetCode: 0 Status: OK PackageFile: AnVIL_1.22.0.tar.gz PackageFileSize: 1.16 MiB