Package: AlpsNMR Version: 4.10.1 Command: /Library/Frameworks/R.framework/Resources/bin/R CMD INSTALL AlpsNMR StartedAt: 2025-10-13 15:17:42 -0400 (Mon, 13 Oct 2025) EndedAt: 2025-10-13 15:18:09 -0400 (Mon, 13 Oct 2025) EllapsedTime: 27.1 seconds RetCode: 0 Status: OK