Package: AlpsNMR Version: 4.10.1 Command: /Library/Frameworks/R.framework/Resources/bin/R CMD build --keep-empty-dirs --no-resave-data AlpsNMR StartedAt: 2025-10-13 17:01:49 -0400 (Mon, 13 Oct 2025) EndedAt: 2025-10-13 17:06:42 -0400 (Mon, 13 Oct 2025) EllapsedTime: 292.7 seconds RetCode: 0 Status: OK PackageFile: AlpsNMR_4.10.1.tar.gz PackageFileSize: 3.7 MiB