Package: AlpsNMR Version: 4.10.1 Command: rm -rf AlpsNMR.buildbin-libdir && mkdir AlpsNMR.buildbin-libdir && /Users/biocbuild/BBS/utils/build-universal.sh AlpsNMR_4.10.1.tar.gz /Library/Frameworks/R.framework/Resources/bin/R AlpsNMR.buildbin-libdir StartedAt: 2025-10-14 12:49:22 -0400 (Tue, 14 Oct 2025) EndedAt: 2025-10-14 12:49:55 -0400 (Tue, 14 Oct 2025) EllapsedTime: 33.0 seconds RetCode: 0 Status: OK PackageFile: AlpsNMR_4.10.1.tgz PackageFileSize: 4.187 MiB