Package: AlpsNMR Version: 4.10.0 Command: /Library/Frameworks/R.framework/Resources/bin/R CMD check --install=check:AlpsNMR.install-out.txt --library=/Library/Frameworks/R.framework/Resources/library --no-vignettes --timings AlpsNMR_4.10.0.tar.gz StartedAt: 2025-04-21 19:02:11 -0400 (Mon, 21 Apr 2025) EndedAt: 2025-04-21 19:05:45 -0400 (Mon, 21 Apr 2025) EllapsedTime: 214.1 seconds RetCode: 0 Status: OK CheckDir: AlpsNMR.Rcheck Warnings: 0