Package: AlpsNMR Version: 4.10.0 Command: rm -rf AlpsNMR.buildbin-libdir && mkdir AlpsNMR.buildbin-libdir && /Users/biocbuild/BBS/utils/build-universal.sh AlpsNMR_4.10.0.tar.gz /Library/Frameworks/R.framework/Resources/bin/R AlpsNMR.buildbin-libdir StartedAt: 2025-04-22 00:33:03 -0400 (Tue, 22 Apr 2025) EndedAt: 2025-04-22 00:33:24 -0400 (Tue, 22 Apr 2025) EllapsedTime: 20.8 seconds RetCode: 0 Status: OK PackageFile: AlpsNMR_4.10.0.tgz PackageFileSize: 4.183 MiB