Package: AlpsNMR Version: 4.10.1 Command: /home/biocbuild/R/R/bin/R CMD INSTALL AlpsNMR StartedAt: 2025-09-29 20:21:45 -0000 (Mon, 29 Sep 2025) EndedAt: 2025-09-29 20:22:03 -0000 (Mon, 29 Sep 2025) EllapsedTime: 17.8 seconds RetCode: 0 Status: OK