Package: AlphaMissenseR Version: 1.5.4 Command: /home/biocbuild/R/R/bin/R CMD INSTALL AlphaMissenseR StartedAt: 2025-10-23 20:26:55 -0000 (Thu, 23 Oct 2025) EndedAt: 2025-10-23 20:27:21 -0000 (Thu, 23 Oct 2025) EllapsedTime: 26.6 seconds RetCode: 0 Status: OK