Package: AlphaMissenseR Version: 1.5.4 Command: /home/biocbuild/R/R/bin/R CMD check --install=check:AlphaMissenseR.install-out.txt --library=/home/biocbuild/R/R/site-library --no-vignettes --timings AlphaMissenseR_1.5.4.tar.gz StartedAt: 2025-10-14 04:51:24 -0000 (Tue, 14 Oct 2025) EndedAt: 2025-10-14 04:54:35 -0000 (Tue, 14 Oct 2025) EllapsedTime: 191.1 seconds RetCode: 1 Status: ERROR CheckDir: AlphaMissenseR.Rcheck Warnings: NA