############################################################################## ############################################################################## ### ### Running command: ### ### rm -rf AlphaMissenseR.buildbin-libdir && mkdir AlphaMissenseR.buildbin-libdir && F:\biocbuild\bbs-3.22-bioc\R\bin\R.exe CMD INSTALL --build --library=AlphaMissenseR.buildbin-libdir AlphaMissenseR_1.5.3.tar.gz ### ############################################################################## ############################################################################## * installing *source* package 'AlphaMissenseR' ... ** this is package 'AlphaMissenseR' version '1.5.3' ** using staged installation ** R ** inst ** byte-compile and prepare package for lazy loading ** help *** installing help indices ** building package indices ** installing vignettes ** testing if installed package can be loaded from temporary location ** testing if installed package can be loaded from final location ** testing if installed package keeps a record of temporary installation path * MD5 sums packaged installation of 'AlphaMissenseR' as AlphaMissenseR_1.5.3.zip * DONE (AlphaMissenseR)