Package: AlphaMissenseR Version: 1.6.0 Command: /home/biocbuild/bbs-3.22-bioc/R/bin/R CMD check --install=check:AlphaMissenseR.install-out.txt --library=/home/biocbuild/bbs-3.22-bioc/R/site-library --timings AlphaMissenseR_1.6.0.tar.gz StartedAt: 2025-11-06 20:58:50 -0500 (Thu, 06 Nov 2025) EndedAt: 2025-11-06 21:03:54 -0500 (Thu, 06 Nov 2025) EllapsedTime: 304.3 seconds RetCode: 1 Status: ERROR CheckDir: AlphaMissenseR.Rcheck Warnings: NA