Package: AllelicImbalance Version: 1.46.1 Command: E:\biocbuild\bbs-3.21-bioc\R\bin\R.exe CMD INSTALL AllelicImbalance StartedAt: 2025-08-14 17:00:33 -0400 (Thu, 14 Aug 2025) EndedAt: 2025-08-14 17:05:20 -0400 (Thu, 14 Aug 2025) EllapsedTime: 287.6 seconds RetCode: 0 Status: OK