Package: AllelicImbalance Version: 1.46.1 Command: chmod a+r AllelicImbalance -R && E:\biocbuild\bbs-3.21-bioc\R\bin\R.exe CMD build --keep-empty-dirs --no-resave-data AllelicImbalance StartedAt: 2025-08-14 17:18:49 -0400 (Thu, 14 Aug 2025) EndedAt: 2025-08-14 17:25:46 -0400 (Thu, 14 Aug 2025) EllapsedTime: 416.9 seconds RetCode: 0 Status: OK PackageFile: AllelicImbalance_1.46.1.tar.gz PackageFileSize: 767.9 KiB