Package: AllelicImbalance Version: 1.46.1 Command: /home/biocbuild/bbs-3.21-bioc/R/bin/R CMD INSTALL AllelicImbalance StartedAt: 2025-10-15 15:47:38 -0400 (Wed, 15 Oct 2025) EndedAt: 2025-10-15 15:48:32 -0400 (Wed, 15 Oct 2025) EllapsedTime: 54.8 seconds RetCode: 0 Status: OK