Package: AllelicImbalance Version: 1.46.1 Command: /home/biocbuild/R/R/bin/R CMD INSTALL AllelicImbalance StartedAt: 2025-10-13 21:05:59 -0000 (Mon, 13 Oct 2025) EndedAt: 2025-10-13 21:07:19 -0000 (Mon, 13 Oct 2025) EllapsedTime: 80.0 seconds RetCode: 0 Status: OK