Package: AllelicImbalance Version: 1.46.1 Command: /home/biocbuild/R/R/bin/R CMD check --install=check:AllelicImbalance.install-out.txt --library=/home/biocbuild/R/R/site-library --no-vignettes --timings AllelicImbalance_1.46.1.tar.gz StartedAt: 2025-10-14 06:08:22 -0000 (Tue, 14 Oct 2025) EndedAt: 2025-10-14 06:19:58 -0000 (Tue, 14 Oct 2025) EllapsedTime: 696.2 seconds RetCode: 0 Status: OK CheckDir: AllelicImbalance.Rcheck Warnings: 0