Package: AgiMicroRna Version: 2.58.0 Command: /Library/Frameworks/R.framework/Resources/bin/R CMD INSTALL AgiMicroRna StartedAt: 2025-10-13 16:29:45 -0400 (Mon, 13 Oct 2025) EndedAt: 2025-10-13 16:31:59 -0400 (Mon, 13 Oct 2025) EllapsedTime: 133.8 seconds RetCode: 0 Status: OK