Package: AgiMicroRna Version: 2.58.0 Command: /Library/Frameworks/R.framework/Resources/bin/R CMD build --keep-empty-dirs --no-resave-data AgiMicroRna StartedAt: 2025-10-13 16:59:37 -0400 (Mon, 13 Oct 2025) EndedAt: 2025-10-13 17:03:33 -0400 (Mon, 13 Oct 2025) EllapsedTime: 236.5 seconds RetCode: 0 Status: OK PackageFile: AgiMicroRna_2.58.0.tar.gz PackageFileSize: 3.064 MiB