Package: AgiMicroRna Version: 2.58.0 Command: /home/biocbuild/R/R/bin/R CMD INSTALL AgiMicroRna StartedAt: 2025-10-13 21:10:48 -0000 (Mon, 13 Oct 2025) EndedAt: 2025-10-13 21:12:21 -0000 (Mon, 13 Oct 2025) EllapsedTime: 93.0 seconds RetCode: 0 Status: OK